BEGIN:VCALENDAR
VERSION:2.0
PRODID:-//Grand Forks Secondary School - ECPv6.15.20//NONSGML v1.0//EN
CALSCALE:GREGORIAN
METHOD:PUBLISH
X-WR-CALNAME:Grand Forks Secondary School
X-ORIGINAL-URL:https://gfss.sd51.bc.ca
X-WR-CALDESC:Events for Grand Forks Secondary School
REFRESH-INTERVAL;VALUE=DURATION:PT1H
X-Robots-Tag:noindex
X-PUBLISHED-TTL:PT1H
BEGIN:VTIMEZONE
TZID:America/Vancouver
BEGIN:DAYLIGHT
TZOFFSETFROM:-0800
TZOFFSETTO:-0700
TZNAME:PDT
DTSTART:20240310T100000
END:DAYLIGHT
BEGIN:STANDARD
TZOFFSETFROM:-0700
TZOFFSETTO:-0800
TZNAME:PST
DTSTART:20241103T090000
END:STANDARD
BEGIN:DAYLIGHT
TZOFFSETFROM:-0800
TZOFFSETTO:-0700
TZNAME:PDT
DTSTART:20250309T100000
END:DAYLIGHT
BEGIN:STANDARD
TZOFFSETFROM:-0700
TZOFFSETTO:-0800
TZNAME:PST
DTSTART:20251102T090000
END:STANDARD
BEGIN:DAYLIGHT
TZOFFSETFROM:-0800
TZOFFSETTO:-0700
TZNAME:PDT
DTSTART:20260308T100000
END:DAYLIGHT
BEGIN:STANDARD
TZOFFSETFROM:-0700
TZOFFSETTO:-0800
TZNAME:PST
DTSTART:20261101T090000
END:STANDARD
BEGIN:DAYLIGHT
TZOFFSETFROM:-0800
TZOFFSETTO:-0700
TZNAME:PDT
DTSTART:20270314T100000
END:DAYLIGHT
BEGIN:STANDARD
TZOFFSETFROM:-0700
TZOFFSETTO:-0800
TZNAME:PST
DTSTART:20271107T090000
END:STANDARD
END:VTIMEZONE
BEGIN:VEVENT
DTSTART;TZID=America/Vancouver:20251219T080000
DTEND;TZID=America/Vancouver:20260104T170000
DTSTAMP:20260424T141348
CREATED:20251001T193749Z
LAST-MODIFIED:20251001T193749Z
UID:53610-1766131200-1767546000@gfss.sd51.bc.ca
SUMMARY:WINTER BREAK
DESCRIPTION:
URL:https://gfss.sd51.bc.ca/event/winter-break-2/
END:VEVENT
BEGIN:VEVENT
DTSTART;VALUE=DATE:20260105
DTEND;VALUE=DATE:20260106
DTSTAMP:20260424T141348
CREATED:20251001T195846Z
LAST-MODIFIED:20251001T195846Z
UID:53611-1767571200-1767657599@gfss.sd51.bc.ca
SUMMARY:ABCD
DESCRIPTION:
URL:https://gfss.sd51.bc.ca/event/abcd-44/
END:VEVENT
BEGIN:VEVENT
DTSTART;VALUE=DATE:20260105
DTEND;VALUE=DATE:20260106
DTSTAMP:20260424T141348
CREATED:20251001T195956Z
LAST-MODIFIED:20251001T195956Z
UID:53612-1767571200-1767657599@gfss.sd51.bc.ca
SUMMARY:First Day in Session
DESCRIPTION:
URL:https://gfss.sd51.bc.ca/event/first-day-in-session/
END:VEVENT
BEGIN:VEVENT
DTSTART;VALUE=DATE:20260106
DTEND;VALUE=DATE:20260107
DTSTAMP:20260424T141348
CREATED:20251001T200126Z
LAST-MODIFIED:20251001T200126Z
UID:53613-1767657600-1767743999@gfss.sd51.bc.ca
SUMMARY:BCDA
DESCRIPTION:
URL:https://gfss.sd51.bc.ca/event/bcda-42/
END:VEVENT
BEGIN:VEVENT
DTSTART;VALUE=DATE:20260107
DTEND;VALUE=DATE:20260108
DTSTAMP:20260424T141348
CREATED:20251001T200546Z
LAST-MODIFIED:20251001T200700Z
UID:53614-1767744000-1767830399@gfss.sd51.bc.ca
SUMMARY:CDAB
DESCRIPTION:
URL:https://gfss.sd51.bc.ca/event/cdab-47/
END:VEVENT
BEGIN:VEVENT
DTSTART;VALUE=DATE:20260108
DTEND;VALUE=DATE:20260109
DTSTAMP:20260424T141348
CREATED:20251001T200617Z
LAST-MODIFIED:20251001T200627Z
UID:53615-1767830400-1767916799@gfss.sd51.bc.ca
SUMMARY:DABC
DESCRIPTION:
URL:https://gfss.sd51.bc.ca/event/dabc-44/
END:VEVENT
BEGIN:VEVENT
DTSTART;VALUE=DATE:20260112
DTEND;VALUE=DATE:20260113
DTSTAMP:20260424T141348
CREATED:20251001T200735Z
LAST-MODIFIED:20251001T201246Z
UID:53617-1768176000-1768262399@gfss.sd51.bc.ca
SUMMARY:BCDA
DESCRIPTION:
URL:https://gfss.sd51.bc.ca/event/bcda-43/
END:VEVENT
BEGIN:VEVENT
DTSTART;VALUE=DATE:20260113
DTEND;VALUE=DATE:20260114
DTSTAMP:20260424T141348
CREATED:20251001T200801Z
LAST-MODIFIED:20251001T200801Z
UID:53618-1768262400-1768348799@gfss.sd51.bc.ca
SUMMARY:CDAB
DESCRIPTION:
URL:https://gfss.sd51.bc.ca/event/cdab-48/
END:VEVENT
BEGIN:VEVENT
DTSTART;VALUE=DATE:20260114
DTEND;VALUE=DATE:20260115
DTSTAMP:20260424T141348
CREATED:20251001T200825Z
LAST-MODIFIED:20251001T200825Z
UID:53619-1768348800-1768435199@gfss.sd51.bc.ca
SUMMARY:DABC
DESCRIPTION:
URL:https://gfss.sd51.bc.ca/event/dabc-45/
END:VEVENT
BEGIN:VEVENT
DTSTART;VALUE=DATE:20260115
DTEND;VALUE=DATE:20260116
DTSTAMP:20260424T141348
CREATED:20251001T200859Z
LAST-MODIFIED:20251001T200859Z
UID:53620-1768435200-1768521599@gfss.sd51.bc.ca
SUMMARY:ABCD
DESCRIPTION:
URL:https://gfss.sd51.bc.ca/event/abcd-45/
END:VEVENT
BEGIN:VEVENT
DTSTART;VALUE=DATE:20260119
DTEND;VALUE=DATE:20260120
DTSTAMP:20260424T141348
CREATED:20251001T200922Z
LAST-MODIFIED:20251001T200922Z
UID:53621-1768780800-1768867199@gfss.sd51.bc.ca
SUMMARY:CDAB
DESCRIPTION:
URL:https://gfss.sd51.bc.ca/event/cdab-49/
END:VEVENT
BEGIN:VEVENT
DTSTART;VALUE=DATE:20260120
DTEND;VALUE=DATE:20260121
DTSTAMP:20260424T141348
CREATED:20251001T200952Z
LAST-MODIFIED:20251001T200952Z
UID:53622-1768867200-1768953599@gfss.sd51.bc.ca
SUMMARY:DABC
DESCRIPTION:
URL:https://gfss.sd51.bc.ca/event/dabc-46/
END:VEVENT
BEGIN:VEVENT
DTSTART;VALUE=DATE:20260121
DTEND;VALUE=DATE:20260122
DTSTAMP:20260424T141348
CREATED:20251001T201841Z
LAST-MODIFIED:20251001T201841Z
UID:53623-1768953600-1769039999@gfss.sd51.bc.ca
SUMMARY:A/B ASSESSMENTS
DESCRIPTION:
URL:https://gfss.sd51.bc.ca/event/a-b-assessments-3/
END:VEVENT
BEGIN:VEVENT
DTSTART;VALUE=DATE:20260122
DTEND;VALUE=DATE:20260123
DTSTAMP:20260424T141348
CREATED:20251001T201911Z
LAST-MODIFIED:20251001T201911Z
UID:53624-1769040000-1769126399@gfss.sd51.bc.ca
SUMMARY:C/D ASSESSMENTS
DESCRIPTION:
URL:https://gfss.sd51.bc.ca/event/c-d-assessments-3/
END:VEVENT
BEGIN:VEVENT
DTSTART;VALUE=DATE:20260126
DTEND;VALUE=DATE:20260127
DTSTAMP:20260424T141348
CREATED:20251001T201937Z
LAST-MODIFIED:20251216T181755Z
UID:53625-1769385600-1769471999@gfss.sd51.bc.ca
SUMMARY:Completion Day
DESCRIPTION:Completion days are for students who have not yet completed their courses. Attendance on completion day is only for a very small handful of students who have had special notice and direct communication with their teachers to attend at appointed times. If students have not received a special notice to attend\, they are not expected at school.
URL:https://gfss.sd51.bc.ca/event/completion-day-3/
END:VEVENT
BEGIN:VEVENT
DTSTART;VALUE=DATE:20260127
DTEND;VALUE=DATE:20260128
DTSTAMP:20260424T141348
CREATED:20251001T202019Z
LAST-MODIFIED:20251001T202019Z
UID:53626-1769472000-1769558399@gfss.sd51.bc.ca
SUMMARY:COMPLETION/TURN AROUND DAY
DESCRIPTION:
URL:https://gfss.sd51.bc.ca/event/completion-turn-around-day/
END:VEVENT
BEGIN:VEVENT
DTSTART;VALUE=DATE:20260128
DTEND;VALUE=DATE:20260129
DTSTAMP:20260424T141348
CREATED:20251001T202352Z
LAST-MODIFIED:20251001T202352Z
UID:53627-1769558400-1769644799@gfss.sd51.bc.ca
SUMMARY:BEGIN SEMESTER 2
DESCRIPTION:
URL:https://gfss.sd51.bc.ca/event/begin-semester-2/
END:VEVENT
BEGIN:VEVENT
DTSTART;VALUE=DATE:20260128
DTEND;VALUE=DATE:20260129
DTSTAMP:20260424T141348
CREATED:20251001T202420Z
LAST-MODIFIED:20251001T202420Z
UID:53628-1769558400-1769644799@gfss.sd51.bc.ca
SUMMARY:ABCD
DESCRIPTION:
URL:https://gfss.sd51.bc.ca/event/abcd-46/
END:VEVENT
BEGIN:VEVENT
DTSTART;VALUE=DATE:20260129
DTEND;VALUE=DATE:20260130
DTSTAMP:20260424T141348
CREATED:20251001T202456Z
LAST-MODIFIED:20251001T202456Z
UID:53629-1769644800-1769731199@gfss.sd51.bc.ca
SUMMARY:BCDA
DESCRIPTION:
URL:https://gfss.sd51.bc.ca/event/bcda-44/
END:VEVENT
END:VCALENDAR