BEGIN:VCALENDAR
VERSION:2.0
PRODID:-//Grand Forks Secondary School - ECPv6.15.20//NONSGML v1.0//EN
CALSCALE:GREGORIAN
METHOD:PUBLISH
X-ORIGINAL-URL:https://gfss.sd51.bc.ca
X-WR-CALDESC:Events for Grand Forks Secondary School
REFRESH-INTERVAL;VALUE=DURATION:PT1H
X-Robots-Tag:noindex
X-PUBLISHED-TTL:PT1H
BEGIN:VTIMEZONE
TZID:America/Vancouver
BEGIN:DAYLIGHT
TZOFFSETFROM:-0800
TZOFFSETTO:-0700
TZNAME:PDT
DTSTART:20250309T100000
END:DAYLIGHT
BEGIN:STANDARD
TZOFFSETFROM:-0700
TZOFFSETTO:-0800
TZNAME:PST
DTSTART:20251102T090000
END:STANDARD
BEGIN:DAYLIGHT
TZOFFSETFROM:-0800
TZOFFSETTO:-0700
TZNAME:PDT
DTSTART:20260308T100000
END:DAYLIGHT
BEGIN:STANDARD
TZOFFSETFROM:-0700
TZOFFSETTO:-0800
TZNAME:PST
DTSTART:20261101T090000
END:STANDARD
BEGIN:DAYLIGHT
TZOFFSETFROM:-0800
TZOFFSETTO:-0700
TZNAME:PDT
DTSTART:20270314T100000
END:DAYLIGHT
BEGIN:STANDARD
TZOFFSETFROM:-0700
TZOFFSETTO:-0800
TZNAME:PST
DTSTART:20271107T090000
END:STANDARD
END:VTIMEZONE
BEGIN:VEVENT
DTSTART;VALUE=DATE:20260202
DTEND;VALUE=DATE:20260203
DTSTAMP:20260421T220308
CREATED:20251001T205226Z
LAST-MODIFIED:20251001T205226Z
UID:53630-1769990400-1770076799@gfss.sd51.bc.ca
SUMMARY:ABCD
DESCRIPTION:
URL:https://gfss.sd51.bc.ca/event/abcd-47/
END:VEVENT
BEGIN:VEVENT
DTSTART;TZID=America/Vancouver:20260202T180000
DTEND;TZID=America/Vancouver:20260202T190000
DTSTAMP:20260421T220308
CREATED:20260202T155302Z
LAST-MODIFIED:20260202T155302Z
UID:53779-1770055200-1770058800@gfss.sd51.bc.ca
SUMMARY:PAC Meeting - Bistro
DESCRIPTION:
URL:https://gfss.sd51.bc.ca/event/pac-meeting-bistro/
END:VEVENT
BEGIN:VEVENT
DTSTART;VALUE=DATE:20260203
DTEND;VALUE=DATE:20260204
DTSTAMP:20260421T220308
CREATED:20251001T205337Z
LAST-MODIFIED:20251001T205337Z
UID:53631-1770076800-1770163199@gfss.sd51.bc.ca
SUMMARY:BCDA
DESCRIPTION:
URL:https://gfss.sd51.bc.ca/event/bcda-45/
END:VEVENT
BEGIN:VEVENT
DTSTART;VALUE=DATE:20260204
DTEND;VALUE=DATE:20260205
DTSTAMP:20260421T220308
CREATED:20251001T205357Z
LAST-MODIFIED:20251001T205357Z
UID:53632-1770163200-1770249599@gfss.sd51.bc.ca
SUMMARY:CDAB
DESCRIPTION:
URL:https://gfss.sd51.bc.ca/event/cdab-50/
END:VEVENT
BEGIN:VEVENT
DTSTART;VALUE=DATE:20260205
DTEND;VALUE=DATE:20260206
DTSTAMP:20260421T220308
CREATED:20251001T205423Z
LAST-MODIFIED:20251001T205423Z
UID:53633-1770249600-1770335999@gfss.sd51.bc.ca
SUMMARY:DABC
DESCRIPTION:
URL:https://gfss.sd51.bc.ca/event/dabc-47/
END:VEVENT
BEGIN:VEVENT
DTSTART;VALUE=DATE:20260209
DTEND;VALUE=DATE:20260210
DTSTAMP:20260421T220308
CREATED:20251001T205447Z
LAST-MODIFIED:20251001T205447Z
UID:53634-1770595200-1770681599@gfss.sd51.bc.ca
SUMMARY:BCDA
DESCRIPTION:
URL:https://gfss.sd51.bc.ca/event/bcda-46/
END:VEVENT
BEGIN:VEVENT
DTSTART;VALUE=DATE:20260210
DTEND;VALUE=DATE:20260211
DTSTAMP:20260421T220308
CREATED:20251001T205508Z
LAST-MODIFIED:20251001T205508Z
UID:53635-1770681600-1770767999@gfss.sd51.bc.ca
SUMMARY:CDAB
DESCRIPTION:
URL:https://gfss.sd51.bc.ca/event/cdab-51/
END:VEVENT
BEGIN:VEVENT
DTSTART;VALUE=DATE:20260211
DTEND;VALUE=DATE:20260212
DTSTAMP:20260421T220308
CREATED:20251001T205529Z
LAST-MODIFIED:20251001T205529Z
UID:53636-1770768000-1770854399@gfss.sd51.bc.ca
SUMMARY:DABC
DESCRIPTION:
URL:https://gfss.sd51.bc.ca/event/dabc-48/
END:VEVENT
BEGIN:VEVENT
DTSTART;VALUE=DATE:20260211
DTEND;VALUE=DATE:20260212
DTSTAMP:20260421T220308
CREATED:20260202T155347Z
LAST-MODIFIED:20260202T155347Z
UID:53780-1770768000-1770854399@gfss.sd51.bc.ca
SUMMARY:Learning Reports go home
DESCRIPTION:
URL:https://gfss.sd51.bc.ca/event/learning-reports-go-home/
END:VEVENT
BEGIN:VEVENT
DTSTART;VALUE=DATE:20260212
DTEND;VALUE=DATE:20260213
DTSTAMP:20260421T220308
CREATED:20251001T205605Z
LAST-MODIFIED:20251001T205605Z
UID:53637-1770854400-1770940799@gfss.sd51.bc.ca
SUMMARY:ABCD
DESCRIPTION:
URL:https://gfss.sd51.bc.ca/event/abcd-48/
END:VEVENT
BEGIN:VEVENT
DTSTART;VALUE=DATE:20260216
DTEND;VALUE=DATE:20260217
DTSTAMP:20260421T220308
CREATED:20251001T205633Z
LAST-MODIFIED:20251001T205633Z
UID:53638-1771200000-1771286399@gfss.sd51.bc.ca
SUMMARY:FAMILY DAY
DESCRIPTION:
URL:https://gfss.sd51.bc.ca/event/family-day/
END:VEVENT
BEGIN:VEVENT
DTSTART;VALUE=DATE:20260217
DTEND;VALUE=DATE:20260218
DTSTAMP:20260421T220308
CREATED:20251001T205656Z
LAST-MODIFIED:20251001T205656Z
UID:53639-1771286400-1771372799@gfss.sd51.bc.ca
SUMMARY:CDAB
DESCRIPTION:
URL:https://gfss.sd51.bc.ca/event/cdab-52/
END:VEVENT
BEGIN:VEVENT
DTSTART;VALUE=DATE:20260218
DTEND;VALUE=DATE:20260219
DTSTAMP:20260421T220308
CREATED:20251001T205720Z
LAST-MODIFIED:20251001T205720Z
UID:53640-1771372800-1771459199@gfss.sd51.bc.ca
SUMMARY:DABC
DESCRIPTION:
URL:https://gfss.sd51.bc.ca/event/dabc-49/
END:VEVENT
BEGIN:VEVENT
DTSTART;VALUE=DATE:20260219
DTEND;VALUE=DATE:20260220
DTSTAMP:20260421T220308
CREATED:20251001T205745Z
LAST-MODIFIED:20251001T205745Z
UID:53641-1771459200-1771545599@gfss.sd51.bc.ca
SUMMARY:ABCD
DESCRIPTION:
URL:https://gfss.sd51.bc.ca/event/abcd-49/
END:VEVENT
BEGIN:VEVENT
DTSTART;VALUE=DATE:20260219
DTEND;VALUE=DATE:20260220
DTSTAMP:20260421T220308
CREATED:20260202T155955Z
LAST-MODIFIED:20260202T155955Z
UID:53782-1771459200-1771545599@gfss.sd51.bc.ca
SUMMARY:YDI Survey (Gr. 11's)
DESCRIPTION:
URL:https://gfss.sd51.bc.ca/event/ydi-survey-gr-11s/
END:VEVENT
BEGIN:VEVENT
DTSTART;VALUE=DATE:20260220
DTEND;VALUE=DATE:20260221
DTSTAMP:20260421T220308
CREATED:20251001T205832Z
LAST-MODIFIED:20251001T205832Z
UID:53642-1771545600-1771631999@gfss.sd51.bc.ca
SUMMARY:BCDA - SCHOOL IN SESSION
DESCRIPTION:
URL:https://gfss.sd51.bc.ca/event/bcda-school-in-session-3/
END:VEVENT
BEGIN:VEVENT
DTSTART;VALUE=DATE:20260223
DTEND;VALUE=DATE:20260224
DTSTAMP:20260421T220308
CREATED:20251001T205859Z
LAST-MODIFIED:20251001T205859Z
UID:53643-1771804800-1771891199@gfss.sd51.bc.ca
SUMMARY:DABC
DESCRIPTION:
URL:https://gfss.sd51.bc.ca/event/dabc-50/
END:VEVENT
BEGIN:VEVENT
DTSTART;VALUE=DATE:20260223
DTEND;VALUE=DATE:20260224
DTSTAMP:20260421T220308
CREATED:20260202T160058Z
LAST-MODIFIED:20260202T160058Z
UID:53783-1771804800-1771891199@gfss.sd51.bc.ca
SUMMARY:Grade Assembly - Course Selection Information
DESCRIPTION:
URL:https://gfss.sd51.bc.ca/event/grade-assembly-course-selection-information/
END:VEVENT
BEGIN:VEVENT
DTSTART;TZID=America/Vancouver:20260223T080000
DTEND;TZID=America/Vancouver:20260223T170000
DTSTAMP:20260421T220308
CREATED:20260223T231713Z
LAST-MODIFIED:20260223T231713Z
UID:53803-1771833600-1771866000@gfss.sd51.bc.ca
SUMMARY:Science Fair - Gym\, am only
DESCRIPTION:
URL:https://gfss.sd51.bc.ca/event/science-fair-gym-am-only/
END:VEVENT
BEGIN:VEVENT
DTSTART;TZID=America/Vancouver:20260223T190000
DTEND;TZID=America/Vancouver:20260223T203000
DTSTAMP:20260421T220308
CREATED:20260202T155825Z
LAST-MODIFIED:20260202T161256Z
UID:53781-1771873200-1771878600@gfss.sd51.bc.ca
SUMMARY:Parents: Course Selection Information Zoom Meeting
DESCRIPTION:
URL:https://gfss.sd51.bc.ca/event/parents-course-selection-information-zoom-meeting/
END:VEVENT
BEGIN:VEVENT
DTSTART;VALUE=DATE:20260224
DTEND;VALUE=DATE:20260225
DTSTAMP:20260421T220308
CREATED:20251001T205925Z
LAST-MODIFIED:20251001T205925Z
UID:53644-1771891200-1771977599@gfss.sd51.bc.ca
SUMMARY:ABCD
DESCRIPTION:
URL:https://gfss.sd51.bc.ca/event/abcd-50/
END:VEVENT
BEGIN:VEVENT
DTSTART;VALUE=DATE:20260224
DTEND;VALUE=DATE:20260225
DTSTAMP:20260421T220308
CREATED:20260202T162553Z
LAST-MODIFIED:20260202T162553Z
UID:53784-1771891200-1771977599@gfss.sd51.bc.ca
SUMMARY:Student Learning Survey's (Grs. 10 & 12)
DESCRIPTION:
URL:https://gfss.sd51.bc.ca/event/student-learning-surveys-grs-10-12/
END:VEVENT
BEGIN:VEVENT
DTSTART;VALUE=DATE:20260225
DTEND;VALUE=DATE:20260226
DTSTAMP:20260421T220308
CREATED:20251001T210003Z
LAST-MODIFIED:20251001T210003Z
UID:53645-1771977600-1772063999@gfss.sd51.bc.ca
SUMMARY:BCDA
DESCRIPTION:
URL:https://gfss.sd51.bc.ca/event/bcda-47/
END:VEVENT
BEGIN:VEVENT
DTSTART;VALUE=DATE:20260225
DTEND;VALUE=DATE:20260226
DTSTAMP:20260421T220308
CREATED:20260202T162641Z
LAST-MODIFIED:20260202T162641Z
UID:53785-1771977600-1772063999@gfss.sd51.bc.ca
SUMMARY:Waterloo Math Contest (Gr. 9 - 11)
DESCRIPTION:
URL:https://gfss.sd51.bc.ca/event/waterloo-math-contest-gr-9-11/
END:VEVENT
BEGIN:VEVENT
DTSTART;VALUE=DATE:20260226
DTEND;VALUE=DATE:20260227
DTSTAMP:20260421T220308
CREATED:20251001T210037Z
LAST-MODIFIED:20251001T210037Z
UID:53646-1772064000-1772150399@gfss.sd51.bc.ca
SUMMARY:CDAB
DESCRIPTION:
URL:https://gfss.sd51.bc.ca/event/cdab-53/
END:VEVENT
END:VCALENDAR